BEGIN:VCALENDAR
VERSION:2.0
PRODID:-//Akron Preparatory School - ECPv5.16.4//NONSGML v1.0//EN
CALSCALE:GREGORIAN
METHOD:PUBLISH
X-WR-CALNAME:Akron Preparatory School
X-ORIGINAL-URL:https://akronprep.org
X-WR-CALDESC:Events for Akron Preparatory School
BEGIN:VTIMEZONE
TZID:America/New_York
BEGIN:DAYLIGHT
TZOFFSETFROM:-0500
TZOFFSETTO:-0400
TZNAME:EDT
DTSTART:20180311T070000
END:DAYLIGHT
BEGIN:STANDARD
TZOFFSETFROM:-0400
TZOFFSETTO:-0500
TZNAME:EST
DTSTART:20181104T060000
END:STANDARD
END:VTIMEZONE
BEGIN:VEVENT
DTSTART;TZID=America/New_York:20180817T160000
DTEND;TZID=America/New_York:20180817T180000
DTSTAMP:20260420T140523
CREATED:20180601T144945Z
LAST-MODIFIED:20180601T144945Z
UID:1420-1534521600-1534528800@akronprep.org
SUMMARY:Back to School Celebration
DESCRIPTION:See your friends and make new friends!  Join us on campus for a Community Back to School Celebration Event. You will be able to enjoy inflatables\, lawn games\, delicious food\, meet community members\, and spend time with families.  This event is free to families in our neighborhood and community.  Bring a friend!
URL:https://akronprep.org/event/back-school-celebration/
LOCATION:Akron Preparatory School\, 1200 E Market St\, Akron\, Ohio\, 44305\, United States
CATEGORIES:Calendar Only,Prospective Families, Events, Home
GEO:41.0662452;-81.4830195
X-APPLE-STRUCTURED-LOCATION;VALUE=URI;X-ADDRESS=Akron Preparatory School 1200 E Market St Akron Ohio 44305 United States;X-APPLE-RADIUS=500;X-TITLE=1200 E Market St:geo:-81.4830195,41.0662452
END:VEVENT
END:VCALENDAR