BEGIN:VCALENDAR
VERSION:2.0
PRODID:-//Akron Preparatory School - ECPv5.16.4//NONSGML v1.0//EN
CALSCALE:GREGORIAN
METHOD:PUBLISH
X-WR-CALNAME:Akron Preparatory School
X-ORIGINAL-URL:https://akronprep.org
X-WR-CALDESC:Events for Akron Preparatory School
BEGIN:VTIMEZONE
TZID:America/New_York
BEGIN:DAYLIGHT
TZOFFSETFROM:-0500
TZOFFSETTO:-0400
TZNAME:EDT
DTSTART:20200308T070000
END:DAYLIGHT
BEGIN:STANDARD
TZOFFSETFROM:-0400
TZOFFSETTO:-0500
TZNAME:EST
DTSTART:20201101T060000
END:STANDARD
END:VTIMEZONE
BEGIN:VEVENT
DTSTART;TZID=America/New_York:20200910T180000
DTEND;TZID=America/New_York:20200910T180000
DTSTAMP:20260420T062259
CREATED:20200715T143011Z
LAST-MODIFIED:20200910T190255Z
UID:4081-1599760800-1599760800@akronprep.org
SUMMARY:Board Meeting
DESCRIPTION:Please Join Zoom Meeting on Thursday\, September 10\, 2020 @ 6:00 p.m. – (Link below) \nhttps://us02web.zoom.us/j/4304783846?pwd=dEh0MnNESHZjZnZ1Z1lTUEZwaGdkdz09 \n  \nMeeting ID: 430 478 3846 \nPasscode: 11722 \nOne tap mobile \n+13126266799\,\,4304783846#\,\,\,\,\,\,0#\,\,11722# US (Chicago) \n+19292056099\,\,4304783846#\,\,\,\,\,\,0#\,\,11722# US (New York) \n  \nDial by your location \n        +1 312 626 6799 US (Chicago) \n        +1 929 205 6099 US (New York) \n        +1 301 715 8592 US (Germantown) \n        +1 346 248 7799 US (Houston) \n        +1 669 900 6833 US (San Jose) \n        +1 253 215 8782 US (Tacoma) \n        877 853 5247 US Toll-free \n        888 788 0099 US Toll-free \nMeeting ID: 430 478 3846 \nPasscode: 11722 \nFind your local number: https://us02web.zoom.us/u/kbJrDJdH8L
URL:https://akronprep.org/event/board-meeting-12/
LOCATION:Virtual\, OH
CATEGORIES:Calendar Only,School Board
END:VEVENT
END:VCALENDAR