BEGIN:VCALENDAR
VERSION:2.0
PRODID:-//Akron Preparatory School - ECPv5.16.4//NONSGML v1.0//EN
CALSCALE:GREGORIAN
METHOD:PUBLISH
X-WR-CALNAME:Akron Preparatory School
X-ORIGINAL-URL:https://akronprep.org
X-WR-CALDESC:Events for Akron Preparatory School
BEGIN:VTIMEZONE
TZID:America/New_York
BEGIN:DAYLIGHT
TZOFFSETFROM:-0500
TZOFFSETTO:-0400
TZNAME:EDT
DTSTART:20210314T070000
END:DAYLIGHT
BEGIN:STANDARD
TZOFFSETFROM:-0400
TZOFFSETTO:-0500
TZNAME:EST
DTSTART:20211107T060000
END:STANDARD
END:VTIMEZONE
BEGIN:VEVENT
DTSTART;TZID=America/New_York:20210526T090000
DTEND;TZID=America/New_York:20210526T140000
DTSTAMP:20260420T061513
CREATED:20210503T174644Z
LAST-MODIFIED:20210503T174644Z
UID:5654-1622019600-1622037600@akronprep.org
SUMMARY:Field Day
DESCRIPTION:We thank you for choosing Akron Prep for another school year! Students who have completed the re-enrollment process for Fall 2021\, including turning in an updated Proof of Residence document for returning students\, will be invited to participate in this special end of year Field Day on campus!
URL:https://akronprep.org/event/field-day/
LOCATION:Akron Preparatory School\, 1200 E Market St\, Akron\, Ohio\, 44305\, United States
CATEGORIES:Calendar Only,Prospective Families, Events, Home
GEO:41.0662452;-81.4830195
X-APPLE-STRUCTURED-LOCATION;VALUE=URI;X-ADDRESS=Akron Preparatory School 1200 E Market St Akron Ohio 44305 United States;X-APPLE-RADIUS=500;X-TITLE=1200 E Market St:geo:-81.4830195,41.0662452
END:VEVENT
END:VCALENDAR