BEGIN:VCALENDAR
VERSION:2.0
PRODID:-//Akron Preparatory School - ECPv5.16.4//NONSGML v1.0//EN
CALSCALE:GREGORIAN
METHOD:PUBLISH
X-WR-CALNAME:Akron Preparatory School
X-ORIGINAL-URL:https://akronprep.org
X-WR-CALDESC:Events for Akron Preparatory School
BEGIN:VTIMEZONE
TZID:America/New_York
BEGIN:DAYLIGHT
TZOFFSETFROM:-0500
TZOFFSETTO:-0400
TZNAME:EDT
DTSTART:20190310T070000
END:DAYLIGHT
BEGIN:STANDARD
TZOFFSETFROM:-0400
TZOFFSETTO:-0500
TZNAME:EST
DTSTART:20191103T060000
END:STANDARD
END:VTIMEZONE
BEGIN:VEVENT
DTSTART;TZID=America/New_York:20190826T170000
DTEND;TZID=America/New_York:20190826T190000
DTSTAMP:20260421T043527
CREATED:20190624T184859Z
LAST-MODIFIED:20190624T184859Z
UID:1905-1566838800-1566846000@akronprep.org
SUMMARY:Meet the Teachers & Enrollment Dinner
DESCRIPTION:Get ready to go back to school at Akron Preparatory Academy! Enjoy a free soul food dinner! Everyone in attendance will be entered for the chance to win gift cards for uniforms and Footlocker! You will also have an opportunity to meet teachers and enroll your child for the 19-20 school year! We can’t wait to see you there!
URL:https://akronprep.org/event/meet-teachers-enrollment-dinner/
LOCATION:Akron Preparatory School\, 1200 E Market St\, Akron\, Ohio\, 44305\, United States
CATEGORIES:Calendar Only,Prospective Families, Events, Home
GEO:41.0662452;-81.4830195
X-APPLE-STRUCTURED-LOCATION;VALUE=URI;X-ADDRESS=Akron Preparatory School 1200 E Market St Akron Ohio 44305 United States;X-APPLE-RADIUS=500;X-TITLE=1200 E Market St:geo:-81.4830195,41.0662452
END:VEVENT
END:VCALENDAR