BEGIN:VCALENDAR
VERSION:2.0
PRODID:-//Akron Preparatory School - ECPv5.16.4//NONSGML v1.0//EN
CALSCALE:GREGORIAN
METHOD:PUBLISH
X-WR-CALNAME:Akron Preparatory School
X-ORIGINAL-URL:https://akronprep.org
X-WR-CALDESC:Events for Akron Preparatory School
BEGIN:VTIMEZONE
TZID:America/New_York
BEGIN:DAYLIGHT
TZOFFSETFROM:-0500
TZOFFSETTO:-0400
TZNAME:EDT
DTSTART:20170312T070000
END:DAYLIGHT
BEGIN:STANDARD
TZOFFSETFROM:-0400
TZOFFSETTO:-0500
TZNAME:EST
DTSTART:20171105T060000
END:STANDARD
END:VTIMEZONE
BEGIN:VEVENT
DTSTART;TZID=America/New_York:20170804T170000
DTEND;TZID=America/New_York:20170804T190000
DTSTAMP:20260420T120850
CREATED:20170712T191225Z
LAST-MODIFIED:20170727T182721Z
UID:1079-1501866000-1501873200@akronprep.org
SUMMARY:Orientation Meet & Greet for Scholars & Families
DESCRIPTION:This event is vital to launching your scholar’s success for the upcoming school year!  Save the date and attend to receive important information from our Principal about the vision for our school and plans for the upcoming school year.  All parents and scholars should attend!
URL:https://akronprep.org/event/orientation-meet-greet-scholars-families/
LOCATION:Akron Preparatory School\, 1200 E Market St\, Akron\, Ohio\, 44305\, United States
CATEGORIES:Calendar Only,Prospective Families, Events, Home
GEO:41.0662452;-81.4830195
X-APPLE-STRUCTURED-LOCATION;VALUE=URI;X-ADDRESS=Akron Preparatory School 1200 E Market St Akron Ohio 44305 United States;X-APPLE-RADIUS=500;X-TITLE=1200 E Market St:geo:-81.4830195,41.0662452
END:VEVENT
END:VCALENDAR