BEGIN:VCALENDAR
VERSION:2.0
PRODID:-//Akron Preparatory School - ECPv5.16.4//NONSGML v1.0//EN
CALSCALE:GREGORIAN
METHOD:PUBLISH
X-WR-CALNAME:Akron Preparatory School
X-ORIGINAL-URL:https://akronprep.org
X-WR-CALDESC:Events for Akron Preparatory School
BEGIN:VTIMEZONE
TZID:America/New_York
BEGIN:DAYLIGHT
TZOFFSETFROM:-0500
TZOFFSETTO:-0400
TZNAME:EDT
DTSTART:20170312T070000
END:DAYLIGHT
BEGIN:STANDARD
TZOFFSETFROM:-0400
TZOFFSETTO:-0500
TZNAME:EST
DTSTART:20171105T060000
END:STANDARD
END:VTIMEZONE
BEGIN:VEVENT
DTSTART;TZID=America/New_York:20170729T120000
DTEND;TZID=America/New_York:20170729T150000
DTSTAMP:20260420T153308
CREATED:20170712T190312Z
LAST-MODIFIED:20170712T190312Z
UID:1074-1501329600-1501340400@akronprep.org
SUMMARY:Summer "Beat the Heat" Community BBQ
DESCRIPTION:Free fun for the whole family!  Come cool down and join us for lunch\, games\, and other fun activities for kids.  Bring your friends!  This event is open to all families throughout our community.  Families interested in enrollment may tour our school\, meet our Principal\, and learn about the next steps to apply for admission.
URL:https://akronprep.org/event/summer-beat-heat-community-bbq/
LOCATION:Akron Preparatory School\, 1200 E Market St\, Akron\, Ohio\, 44305\, United States
CATEGORIES:Calendar Only,Prospective Families, Events, Home
GEO:41.0662452;-81.4830195
X-APPLE-STRUCTURED-LOCATION;VALUE=URI;X-ADDRESS=Akron Preparatory School 1200 E Market St Akron Ohio 44305 United States;X-APPLE-RADIUS=500;X-TITLE=1200 E Market St:geo:-81.4830195,41.0662452
END:VEVENT
END:VCALENDAR